BEGIN:VCALENDAR
VERSION:2.0
PRODID:-//Betsy Dentzer - ECPv4.6.1//NONSGML v1.0//EN
CALSCALE:GREGORIAN
METHOD:PUBLISH
X-WR-CALNAME:Betsy Dentzer
X-ORIGINAL-URL:http://www.betsydentzer.lu
X-WR-CALDESC:Events for Betsy Dentzer
BEGIN:VEVENT
DTSTART;VALUE=DATE:20191201
DTEND;VALUE=DATE:20191202
DTSTAMP:20211007T034333
CREATED:20191013T184530Z
LAST-MODIFIED:20191013T184530Z
UID:7504-1575158400-1575244799@www.betsydentzer.lu
SUMMARY:"An der Nuecht wann et knistert a raschelt"
DESCRIPTION:“An der Nuecht wann et knistert a raschelt” / storytelling and music in the dark\, 5+ / in Luxembourgish / Director: Nelly Danker / storytelling: Betsy Dentzer / Percussion: Alexander Babel / within the program of the Wunderkammer of «less is more − rainy days 2019» / Philharmonie Luxembourg\, Salle de répétition 1 \n11h & 12h & 14h & 15h \n
URL:http://www.betsydentzer.lu/event/an-der-nuecht-wann-et-knistert-a-raschelt/
LOCATION:1\, place de l’Europe\, Luxembourg\, 1499\, Luxembourg
END:VEVENT
END:VCALENDAR