BEGIN:VCALENDAR
VERSION:2.0
PRODID:-//Betsy Dentzer - ECPv4.6.1//NONSGML v1.0//EN
CALSCALE:GREGORIAN
METHOD:PUBLISH
X-WR-CALNAME:Betsy Dentzer
X-ORIGINAL-URL:http://www.betsydentzer.lu
X-WR-CALDESC:Events for Betsy Dentzer
BEGIN:VEVENT
DTSTART;VALUE=DATE:20200421
DTEND;VALUE=DATE:20200422
DTSTAMP:20200815T022847
CREATED:20191014T143736Z
LAST-MODIFIED:20200512T142117Z
UID:7529-1587427200-1587513599@www.betsydentzer.lu
SUMMARY:CANCELLED "Darstellen mit Kindern"
DESCRIPTION:“Darstellen mit Kindern”\, group 1\, part 2 / continuous training for educators / Org.: Ville de Luxembourg \n
URL:http://www.betsydentzer.lu/event/darstellen-mit-kindern-2/
END:VEVENT
END:VCALENDAR