BEGIN:VCALENDAR
VERSION:2.0
PRODID:-//Betsy Dentzer - ECPv4.6.1//NONSGML v1.0//EN
CALSCALE:GREGORIAN
METHOD:PUBLISH
X-WR-CALNAME:Betsy Dentzer
X-ORIGINAL-URL:http://www.betsydentzer.lu
X-WR-CALDESC:Events for Betsy Dentzer
BEGIN:VEVENT
DTSTART;VALUE=DATE:20200506
DTEND;VALUE=DATE:20200507
DTSTAMP:20211007T033936
CREATED:20191014T143816Z
LAST-MODIFIED:20200512T141712Z
UID:7531-1588723200-1588809599@www.betsydentzer.lu
SUMMARY:CANCELLED "Darstellen mit Kindern"
DESCRIPTION:“Darstellen mit Kindern”\, group 2\, part 1 / continuous training for educators / Org.: Ville de Luxembourg \n
URL:http://www.betsydentzer.lu/event/darstellen-mit-kindern-3/
END:VEVENT
END:VCALENDAR