BEGIN:VCALENDAR
VERSION:2.0
PRODID:-//Betsy Dentzer - ECPv4.6.1//NONSGML v1.0//EN
CALSCALE:GREGORIAN
METHOD:PUBLISH
X-WR-CALNAME:Betsy Dentzer
X-ORIGINAL-URL:http://www.betsydentzer.lu
X-WR-CALDESC:Events for Betsy Dentzer
BEGIN:VEVENT
DTSTART;TZID=UTC+0:20200614T141500
DTEND;TZID=UTC+0:20200614T150000
DTSTAMP:20200427T035503
CREATED:20200212T120046Z
LAST-MODIFIED:20200212T120046Z
UID:7630-1592144100-1592146800@www.betsydentzer.lu
SUMMARY:De Schëppe Bauer an aner verspillte Wierder
DESCRIPTION:De Schëppe Bauer an aner verspillte Wierder / storytelling for families 5+ / in Luxembourgish / Lenght: 40 Minutes / Org. Kulturhuef Grevenmacher \n  \nEt wor eemol ee Schëppe Bauer\, deen hat sech an eng Häerzer Damm verléift. Et hätt esou eng schéi Geschicht kéinte ginn\, wier do net hiere Papp\, den Häerzer Kinnek gewiecht. Dee war natierlech guer net domat averstan\, dass ee Bauer sech sollt mat esou enger fäiner Madämmche bestueden. Do huet de Schëppe Bauer sech eng luusseg afale gelooss…Wëlls du wëssen\, ween dat Spill gewënnt?\nEn Erzielprogramm ganz speziell fir de Kulturhuef a säi Spillkaartemusée\, ausgeduecht an erzielt vum Betsy Dentzer \n
URL:http://www.betsydentzer.lu/event/de-scheppe-bauer-an-aner-verspillte-wierder/
LOCATION:54\, rte de Trèves\, Grevenmacher\, 6793\, Luxembourg
END:VEVENT
END:VCALENDAR