BEGIN:VCALENDAR
VERSION:2.0
PRODID:-//Betsy Dentzer - ECPv4.6.1//NONSGML v1.0//EN
CALSCALE:GREGORIAN
METHOD:PUBLISH
X-WR-CALNAME:Betsy Dentzer
X-ORIGINAL-URL:http://www.betsydentzer.lu
X-WR-CALDESC:Events for Betsy Dentzer
BEGIN:VEVENT
DTSTART;TZID=UTC+0:20180128T153000
DTEND;TZID=UTC+0:20180128T181000
DTSTAMP:20210722T153658
CREATED:20171124T144308Z
LAST-MODIFIED:20171124T144308Z
UID:6903-1517153400-1517163000@www.betsydentzer.lu
SUMMARY:Dëppchen\, Dëppchen
DESCRIPTION:Dëppchen\, Dëppchen / Storytelling\, music and object theatre for children / 3-5 years / Concept & storytelling: Betsy Dentzer / Music (composition\, play): Luc Hemmer / Advising: Milla Trausch / Production: Theater Traverse / Funding: Ministère de la Culture Luxembourg / \nLength: 20′ + 20′ workshop \n“Dëppchen\, Dëppchen” won the prize of the children’s jury at the Marionettefestival in Tadler (L)\, organized by Rotondes in 2016. \n
URL:http://www.betsydentzer.lu/event/deppchen-deppchen-4/
LOCATION:Place des rotondes\, Luxembourg\, 2448\, Luxembourg
END:VEVENT
END:VCALENDAR