BEGIN:VCALENDAR
VERSION:2.0
PRODID:-//Betsy Dentzer - ECPv4.6.1//NONSGML v1.0//EN
CALSCALE:GREGORIAN
METHOD:PUBLISH
X-WR-CALNAME:Betsy Dentzer
X-ORIGINAL-URL:http://www.betsydentzer.lu
X-WR-CALDESC:Events for Betsy Dentzer
BEGIN:VEVENT
DTSTART;TZID=UTC+0:20191020T110000
DTEND;TZID=UTC+0:20191020T114500
DTSTAMP:20211007T034100
CREATED:20190730T144747Z
LAST-MODIFIED:20190730T144747Z
UID:7473-1571569200-1571571900@www.betsydentzer.lu
SUMMARY:D'Geschichteblumm an aner geblimmelt Wierder
DESCRIPTION:D’Geschichteblumm an aner geblimmelt Wierder (The story flower and other bloomy words) / storytelling program\, 4+ / in Luxembourgish / from and with Betsy Dentzer / Org.: Kulturhuef Grevenmacher\nPUBLIC SHOW \n  \nDo\, kuck…dohannen am Eck !\nHues de gesinn?\nDo huet de Buedem dach gewibbelt?!\nKuck\, kuck!!! \nEt kribbelt a krabbelt do an der Äerd…vereenzelt Käre rullen hin an hier\n…a lo! …deelt sech de Buedem an et luusst eppes eraus! \nEppes Klenges\, Grénges. Et wiisst an d’Luucht…ganz lues awer ëmmer méi héich. Et ass e Still…vun enger Blumm ? \nEt klëmmt ëmmer weider a Richtung Sonn an op eemol dauchen op de Säite vun deem Still esou komesch Fatzen op. Do! Se diebelen sech auserneen…et si Blieder!! Et ass eng Planz…sou eng hunn ech nach ni gesinn! Se wiisst a wiisst a wiisst…ech muss de Kapp ganz wäit no hannen hale fir d’Spëtzt nach ze gesinn…an op eemol verschwënnt se… tëscht de Wolleken! \nWat ass dat fir eng Planz?? A firwat wiisst déi esou séier?? A wat mëscht déi do iwwert de Wolleken?\nWann s du op all déi Froen eng Äntwert wëlls kréien…ma da komm a looss der d’Geschicht dozou erzielen! \n
URL:http://www.betsydentzer.lu/event/dgeschichteblumm-an-aner-geblimmelt-wierder/
LOCATION:54\, rte de Trèves\, Grevenmacher\, 6793\, Luxembourg
END:VEVENT
END:VCALENDAR