BEGIN:VCALENDAR
VERSION:2.0
PRODID:-//Betsy Dentzer - ECPv4.6.1//NONSGML v1.0//EN
CALSCALE:GREGORIAN
METHOD:PUBLISH
X-WR-CALNAME:Betsy Dentzer
X-ORIGINAL-URL:http://www.betsydentzer.lu
X-WR-CALDESC:Events for Betsy Dentzer
BEGIN:VEVENT
DTSTART;TZID=UTC+0:20171109T150000
DTEND;TZID=UTC+0:20171109T160000
DTSTAMP:20210722T153924
CREATED:20171020T152130Z
LAST-MODIFIED:20171020T152130Z
UID:6724-1510239600-1510243200@www.betsydentzer.lu
SUMMARY:Ënnerwee
DESCRIPTION:Ënnerwee / Storytelling and objects / 5+ / in Luxembourgish / Concept and storytelling: Betsy Dentzer / Artistic advise: Linda Bonvini / Objects: Olivier Pesch / Production and touring: Rotondes \n  \nA meng Wallisse paken ech : \neng Weltkaart\neng Weltkaart an ee Grinsen\neng Weltkaart\, ee Grinsen an eng Peffermënzkamell\neng Weltkaart\, ee Grinsen\, eng Peffermënzkamell an e klengt Geräisch\neng Weltkaart\, ee Grinsen\, eng Peffermënzkamell\, e klengt Geräisch a 15 Wierder\, déi mat « E » ufänken\neng Weltkaart\, ee Grinsen\, eng Peffermënzkamell\, e klengt Geräisch\, 15 Wierder\, déi mat « E » ufänken an ee Staunen\neng Weltkaart\, ee Grinsen\, eng Peffermënzkamell\, e klengt Geräisch\, 15 Wierder\, déi mat « E » ufänken\, ee Staunen an eng Koppel gespëtzten Oueren! \nNo enger laanger Rees duerch Kulturhaiser a Schoulen déi d’Betsy Dentzer lescht Saison erlieft huet\, kennt Sie nees do zeréck wou alles ugefaangen huet. \n \n
URL:http://www.betsydentzer.lu/event/ennerwee-4/
LOCATION:Place des rotondes\, Luxembourg\, 2448\, Luxembourg
END:VEVENT
END:VCALENDAR