BEGIN:VCALENDAR
VERSION:2.0
PRODID:-//Betsy Dentzer - ECPv4.6.1//NONSGML v1.0//EN
CALSCALE:GREGORIAN
METHOD:PUBLISH
X-WR-CALNAME:Betsy Dentzer
X-ORIGINAL-URL:http://www.betsydentzer.lu
X-WR-CALDESC:Events for Betsy Dentzer
BEGIN:VEVENT
DTSTART;TZID=UTC+0:20180114T110000
DTEND;TZID=UTC+0:20180114T115000
DTSTAMP:20210722T153347
CREATED:20171126T125521Z
LAST-MODIFIED:20171126T125521Z
UID:6917-1515927600-1515930600@www.betsydentzer.lu
SUMMARY:HaxPaxMax - d'Erzielsonndeger am Kapuzinertheater
DESCRIPTION:HaxPaxMax – d’Erzielsonndeger am Kapuzinertheater / storytelling for families / 4+ / Production: Théâtres de la Ville de Luxembourg \n  \nOder: Hokuspokus Fidibus\, Abracadabra\, Simsalabim\, Ciáralo–Báralo oder och nach Schlaangenee a Moukendreck!… vill vun deen Sprëch goufe scho gehéiert\, vill nei Wiese goufen entdeckt an déi gelungensten Ecke vum Zauberbësch erfuerscht. \nDo hu Mënschen sech an Déieren an Déieren sech a Mënsche verwandelt\, et gouf mol eppes eweg\, mol eppes dobäi gezaubert. Eemol war herno rem alles ewéi virdrun\, an eemol ass den Zauber fir ëmmer bliwwen. \n“Dat ass dach alles guer net méiglech!”?? Dass dee Sproch net gëllt\, dat hu mer schon d’lescht Saison gesinn an héieren… a fir déi\, déi nach ëmmer zweifelen\, setze mer dofir nach en zweeten Tour dobäi! Zaubergeschichte ginn et nach ganz vill op der Welt\, an am allerléifste krauchen se a kleng an a grouß Oueren a loossen sech weidererzielen! \n
URL:http://www.betsydentzer.lu/event/haxpaxmax-derzielsonndeger-am-kapuzinertheater-2/
LOCATION:9\, Place du Théâtre\, Luxembourg\, 2613\, Luxembourg
END:VEVENT
END:VCALENDAR