BEGIN:VCALENDAR
VERSION:2.0
PRODID:-//Betsy Dentzer - ECPv4.6.1//NONSGML v1.0//EN
CALSCALE:GREGORIAN
METHOD:PUBLISH
X-WR-CALNAME:Betsy Dentzer
X-ORIGINAL-URL:http://www.betsydentzer.lu
X-WR-CALDESC:Events for Betsy Dentzer
BEGIN:VEVENT
DTSTART;TZID=UTC+0:20200623T180000
DTEND;TZID=UTC+0:20200623T191500
DTSTAMP:20210420T205716
CREATED:20200618T082208Z
LAST-MODIFIED:20200618T082208Z
UID:7775-1592935200-1592939700@www.betsydentzer.lu
SUMMARY:Kappkino: Eng Geschicht ouni Baart"
DESCRIPTION:Kappkino : “Eng Geschicht ouni Baart” / audioplay 14+ / in Luxembourgish / Text: Claudine Muno (based on “The Shadow” bei H.C. Andersen) / Director\, production\, graphic design: Tanja Frank / voice: Betsy Dentzer / music\, sounds\, voice: Misch Feinen / sound engineering: Ken Nnganyadi / recorded at Philophon studios Bettembourg / Coproduction: Centre National Audiovisuel (CNA Dudelange) / Financial Support: Fonds Culturel National & Ministère de la Culture / Partners: Radio 100\,7 & Kulturfabrik Esch \n  \n \n
URL:http://www.betsydentzer.lu/event/kappkino-eng-geschicht-ouni-baart-2/
LOCATION:Luxembourg\, Luxembourg
END:VEVENT
END:VCALENDAR