BEGIN:VCALENDAR
VERSION:2.0
PRODID:-//Betsy Dentzer - ECPv4.6.1//NONSGML v1.0//EN
CALSCALE:GREGORIAN
METHOD:PUBLISH
X-WR-CALNAME:Betsy Dentzer
X-ORIGINAL-URL:http://www.betsydentzer.lu
X-WR-CALDESC:Events for Betsy Dentzer
BEGIN:VEVENT
DTSTART;TZID=UTC+0:20171118T200000
DTEND;TZID=UTC+0:20171118T213000
DTSTAMP:20210722T153951
CREATED:20171020T154949Z
LAST-MODIFIED:20171020T154949Z
UID:6736-1511035200-1511040600@www.betsydentzer.lu
SUMMARY:Kulinarrata
DESCRIPTION:Kulinarrata / culinary stories for adults / Storytelling: Betsy Dentzer & André Wülfing / @Consoltheater Gelsenkirchen (D) \n  \nDas Erzählerduo Betsy Dentzer und André Wülfing\, das sich auf europäischen Festivals kennengelernt hat\, trägt ein ganzes Kochbuch an Geschichten zusammen: Aus dem heißen Süden und dem kühlen Norden\, rasante Erzählungen und skurrile Märchen\, lustvoll\, leicht\, lebensklug – und vor allem lecker. Die beiden Erzählkünstler präsentieren ihre Geschichten herzhaft aus dem Bauch heraus\, würzen ihre Anekdoten mit gewohnt feinem Gespür für Nuancen und freuen sich auf worthungrige Gäste. \n
URL:http://www.betsydentzer.lu/event/kulinarrata-2/
LOCATION:Bismarckstraße 240\, Gelsenkirchen\, 45889\, Germany
END:VEVENT
END:VCALENDAR