BEGIN:VCALENDAR
VERSION:2.0
PRODID:-//Betsy Dentzer - ECPv4.6.1//NONSGML v1.0//EN
CALSCALE:GREGORIAN
METHOD:PUBLISH
X-WR-CALNAME:Betsy Dentzer
X-ORIGINAL-URL:http://www.betsydentzer.lu
X-WR-CALDESC:Events for Betsy Dentzer
BEGIN:VEVENT
DTSTART;TZID=UTC+0:20180225T110000
DTEND;TZID=UTC+0:20180225T120000
DTSTAMP:20210722T153152
CREATED:20180112T155745Z
LAST-MODIFIED:20180112T155745Z
UID:7009-1519556400-1519560000@www.betsydentzer.lu
SUMMARY:Musek erzielt: D'Bremer Stadtmusikanten
DESCRIPTION:Musek erzielt: D’Bremer Stadtmusikanten / music and storytelling for families / 4+ / Direction\, concept: Dan Tanson / storytelling: Betsy Dentzer / Violin\, idea\, concept: Virginie Descharmes / Violin: Benjamin Lescoat / Alto: Wendy Ruymen / Cello: Thomas Lucks / Movements & manipulations:  Pietro Gaudioso\, Anaël Chaval / Costumes & stage: Alexandra Lichtenberger / with music from Bach and Haydn / Production: Philharmonie de Luxembourg\, Festival Artonov\, Lecture-aventure a.s.b.l. / Espace Découverte\, Philharmonie de Luxembourg (L) \n  \n \n
URL:http://www.betsydentzer.lu/event/musek-erzielt-dbremer-stadtmusikanten-2/
LOCATION:1\, place de l’Europe\, Luxembourg\, 1499\, Luxembourg
END:VEVENT
END:VCALENDAR