BEGIN:VCALENDAR
VERSION:2.0
PRODID:-//Betsy Dentzer - ECPv4.6.1//NONSGML v1.0//EN
CALSCALE:GREGORIAN
METHOD:PUBLISH
X-WR-CALNAME:Betsy Dentzer
X-ORIGINAL-URL:http://www.betsydentzer.lu
X-WR-CALDESC:Events for Betsy Dentzer
BEGIN:VEVENT
DTSTART;TZID=UTC+0:20200715T150000
DTEND;TZID=UTC+0:20200715T160000
DTSTAMP:20200812T001837
CREATED:20200617T113137Z
LAST-MODIFIED:20200617T113137Z
UID:7744-1594825200-1594828800@www.betsydentzer.lu
SUMMARY:Nei Häppercher
DESCRIPTION:“Nei Häppercher” / storytelling for families 7+ / in Luxembourgish / 45 minutes/ in the parc next to Kulturhaus Niederanven \nAm Fréijoër ginn déi al Saachen erausgestëbst an et gëtt Plaz gemaach fir neier. Ma sou geet dat och mat eise Käpp – heiansdo musse mer einfach emol duerchlëften! D’Betsy Dentzer huet fläisseg nei Geschichte recherchéiert a geprouft\, an dir sidd déi éischt déi se ze héiere kréien! Et gëtt keen Thema\, mee et geet einfach queesch duerch all Kulture\, Länner\, Genren a Längten…e puer Häppercher vun hei\, e puer Häppercher vun do…mol kucken\, wéieng dono an de Käpp wunne bleiwen! \n
URL:http://www.betsydentzer.lu/event/nei-happercher/
LOCATION:145\, route de Trèves\, Niederanven\, 6940\, Luxembourg
END:VEVENT
END:VCALENDAR