BEGIN:VCALENDAR
VERSION:2.0
PRODID:-//Betsy Dentzer - ECPv4.6.1//NONSGML v1.0//EN
CALSCALE:GREGORIAN
METHOD:PUBLISH
X-WR-CALNAME:Betsy Dentzer
X-ORIGINAL-URL:http://www.betsydentzer.lu
X-WR-CALDESC:Events for Betsy Dentzer
BEGIN:VEVENT
DTSTART;TZID=UTC+0:20200213T150000
DTEND;TZID=UTC+0:20200213T160000
DTSTAMP:20200427T034014
CREATED:20190729T104035Z
LAST-MODIFIED:20190729T104054Z
UID:7458-1581606000-1581609600@www.betsydentzer.lu
SUMMARY:Ouerespëtzer
DESCRIPTION:“Ouerespëtzer” / storytelling for families / 5+/  in Luxembourgish / Org.: Cube 521 Marnach \n  \nDéi lescht Saison ass d’Ouerespëtzer-Këscht schon déi drëtte Kéier am Cube opgaang. \nNo enger Rees duerch Italien\, engem Besuch am Taiwan bei enger Flou an enger Laus an engem Openthalt a Portugal bei engem plakege Jippelchen ass d’Këscht nees prett fir opzegoen: déi neitste Geschichte leie scho prett a waarden nëmmen drop\, an déi gutt gespëtzten Oueren ze klammen! \nEt gëtt spannend\, vläit mol nodenklech\, mat enger winzeger Portioun Trauregkeet\, mee dofir enger groußer Duebelportioun Gekickels a Gegrins! \n
URL:http://www.betsydentzer.lu/event/ouerespetzer-3/
LOCATION:1-3\, Driicht\, Marnach\, L-9764\, Luxembourg
END:VEVENT
END:VCALENDAR