BEGIN:VCALENDAR
VERSION:2.0
PRODID:-//Betsy Dentzer - ECPv4.6.1//NONSGML v1.0//EN
CALSCALE:GREGORIAN
METHOD:PUBLISH
X-WR-CALNAME:Betsy Dentzer
X-ORIGINAL-URL:http://www.betsydentzer.lu
X-WR-CALDESC:Events for Betsy Dentzer
BEGIN:VEVENT
DTSTART;TZID=UTC+0:20200118T150000
DTEND;TZID=UTC+0:20200118T160000
DTSTAMP:20200815T012314
CREATED:20190717T114115Z
LAST-MODIFIED:20190717T114115Z
UID:7450-1579359600-1579363200@www.betsydentzer.lu
SUMMARY:Storytelling for families
DESCRIPTION:Storytelling for families\, 4+ / Org.: Fairtrade Schifflange \n
URL:http://www.betsydentzer.lu/event/storytelling-for-families-2/
LOCATION:11-15\, rue C.-M. Spoo\, Schifflange\, 3876\, Luxembourg
END:VEVENT
END:VCALENDAR