BEGIN:VCALENDAR
VERSION:2.0
PRODID:-//Betsy Dentzer - ECPv4.6.1//NONSGML v1.0//EN
CALSCALE:GREGORIAN
METHOD:PUBLISH
X-WR-CALNAME:Betsy Dentzer
X-ORIGINAL-URL:http://www.betsydentzer.lu
X-WR-CALDESC:Events for Betsy Dentzer
BEGIN:VEVENT
DTSTART;TZID=UTC+0:20201010T150000
DTEND;TZID=UTC+0:20201010T160000
DTSTAMP:20200427T035905
CREATED:20191215T120026Z
LAST-MODIFIED:20191215T120026Z
UID:7554-1602342000-1602345600@www.betsydentzer.lu
SUMMARY:Storytelling for families
DESCRIPTION:storytelling for families \n
URL:http://www.betsydentzer.lu/event/storytelling-for-families-3/
LOCATION:9\, rue Vieille\, Bettembourg\, 3284\, Luxembourg
END:VEVENT
END:VCALENDAR