BEGIN:VCALENDAR
VERSION:2.0
PRODID:-//Betsy Dentzer - ECPv4.6.1//NONSGML v1.0//EN
CALSCALE:GREGORIAN
METHOD:PUBLISH
X-WR-CALNAME:Betsy Dentzer
X-ORIGINAL-URL:http://www.betsydentzer.lu
X-WR-CALDESC:Events for Betsy Dentzer
BEGIN:VEVENT
DTSTART;VALUE=DATE:20190708
DTEND;VALUE=DATE:20190709
DTSTAMP:20211007T043431
CREATED:20190220T125843Z
LAST-MODIFIED:20190220T125843Z
UID:7223-1562544000-1562630399@www.betsydentzer.lu
SUMMARY:Storytelling for scholars
DESCRIPTION:Storytelling for scholars / Ecole fondamentale de Beggen (LU) \n
URL:http://www.betsydentzer.lu/event/storytelling-for-scholars-24/
LOCATION:Beggen\, Luxembourg
END:VEVENT
END:VCALENDAR