BEGIN:VCALENDAR
VERSION:2.0
PRODID:-//Betsy Dentzer - ECPv4.6.1//NONSGML v1.0//EN
CALSCALE:GREGORIAN
METHOD:PUBLISH
X-WR-CALNAME:Betsy Dentzer
X-ORIGINAL-URL:http://www.betsydentzer.lu
X-WR-CALDESC:Events for Betsy Dentzer
BEGIN:VEVENT
DTSTART;VALUE=DATE:20190709
DTEND;VALUE=DATE:20190710
DTSTAMP:20211007T043405
CREATED:20190325T110333Z
LAST-MODIFIED:20190325T110333Z
UID:7237-1562630400-1562716799@www.betsydentzer.lu
SUMMARY:Storytelling for scholars
DESCRIPTION:Storytelling for scholars\, C1 / Ecole fondamentale de Bourscheid \n
URL:http://www.betsydentzer.lu/event/storytelling-for-scholars-25/
LOCATION:Bourscheid\, Luxembourg
END:VEVENT
END:VCALENDAR