BEGIN:VCALENDAR
VERSION:2.0
PRODID:-//Betsy Dentzer - ECPv4.6.1//NONSGML v1.0//EN
CALSCALE:GREGORIAN
METHOD:PUBLISH
X-WR-CALNAME:Betsy Dentzer
X-ORIGINAL-URL:http://www.betsydentzer.lu
X-WR-CALDESC:Events for Betsy Dentzer
BEGIN:VEVENT
DTSTART;TZID=UTC+0:20200212T080000
DTEND;TZID=UTC+0:20200212T120000
DTSTAMP:20200427T033809
CREATED:20191013T185607Z
LAST-MODIFIED:20191216T121232Z
UID:7509-1581494400-1581508800@www.betsydentzer.lu
SUMMARY:Storytelling for scholars
DESCRIPTION:storytelling for scholars / Org.: Ecole fondamentale de Saeul (L) \n
URL:http://www.betsydentzer.lu/event/storytelling-for-scholars-28/
LOCATION:Saeul\, Luxembourg
END:VEVENT
END:VCALENDAR