BEGIN:VCALENDAR
VERSION:2.0
PRODID:-//Betsy Dentzer - ECPv4.6.1//NONSGML v1.0//EN
CALSCALE:GREGORIAN
METHOD:PUBLISH
X-WR-CALNAME:Betsy Dentzer
X-ORIGINAL-URL:http://www.betsydentzer.lu
X-WR-CALDESC:Events for Betsy Dentzer
BEGIN:VEVENT
DTSTART;VALUE=DATE:20200224
DTEND;VALUE=DATE:20200225
DTSTAMP:20211007T033958
CREATED:20191215T131828Z
LAST-MODIFIED:20191215T131828Z
UID:7575-1582502400-1582588799@www.betsydentzer.lu
SUMMARY:Storytelling for scholars
DESCRIPTION:Storytelling for scholars / Org. Liesfërderung an den Diddelenger Schoulen & Bibliothèque Publique Régionale de Dudelange \n
URL:http://www.betsydentzer.lu/event/storytelling-for-scholars-35/
LOCATION:24\, rue du Commerce\, Dudelange\, 3450
END:VEVENT
END:VCALENDAR