BEGIN:VCALENDAR
VERSION:2.0
PRODID:-//Betsy Dentzer - ECPv4.6.1//NONSGML v1.0//EN
CALSCALE:GREGORIAN
METHOD:PUBLISH
X-WR-CALNAME:Betsy Dentzer
X-ORIGINAL-URL:http://www.betsydentzer.lu
X-WR-CALDESC:Events for Betsy Dentzer
BEGIN:VEVENT
DTSTART;VALUE=DATE:20200618
DTEND;VALUE=DATE:20200619
DTSTAMP:20200427T034318
CREATED:20200115T145221Z
LAST-MODIFIED:20200115T145221Z
UID:7612-1592438400-1592524799@www.betsydentzer.lu
SUMMARY:Storytelling for scholars
DESCRIPTION:Storytelling for scholars\, C2 / Org.: Ecole fondamentale de Strassen \n
URL:http://www.betsydentzer.lu/event/storytelling-for-scholars-40/
LOCATION:Strassen\, Luxembourg
END:VEVENT
END:VCALENDAR