BEGIN:VCALENDAR
VERSION:2.0
PRODID:-//Betsy Dentzer - ECPv4.6.1//NONSGML v1.0//EN
CALSCALE:GREGORIAN
METHOD:PUBLISH
X-WR-CALNAME:Betsy Dentzer
X-ORIGINAL-URL:http://www.betsydentzer.lu
X-WR-CALDESC:Events for Betsy Dentzer
BEGIN:VEVENT
DTSTART;TZID=UTC+0:20201008T080000
DTEND;TZID=UTC+0:20201008T120000
DTSTAMP:20200812T010723
CREATED:20200512T073715Z
LAST-MODIFIED:20200512T073715Z
UID:7655-1602144000-1602158400@www.betsydentzer.lu
SUMMARY:Storytelling for scholars
DESCRIPTION:Storytelling for scholars / C2-4 / Org. Ecole fondamentale de Remich \n
URL:http://www.betsydentzer.lu/event/storytelling-for-scholars-43/
LOCATION:Luxembourg
END:VEVENT
END:VCALENDAR