BEGIN:VCALENDAR
VERSION:2.0
PRODID:-//Betsy Dentzer - ECPv4.6.1//NONSGML v1.0//EN
CALSCALE:GREGORIAN
METHOD:PUBLISH
X-WR-CALNAME:Betsy Dentzer
X-ORIGINAL-URL:http://www.betsydentzer.lu
X-WR-CALDESC:Events for Betsy Dentzer
BEGIN:VEVENT
DTSTART;TZID=UTC+0:20191109T200000
DTEND;TZID=UTC+0:20191109T211500
DTSTAMP:20211007T033443
CREATED:20190716T191919Z
LAST-MODIFIED:20190716T191919Z
UID:7416-1573329600-1573334100@www.betsydentzer.lu
SUMMARY:Weibereien
DESCRIPTION:Weibereien/ storytelling and music for adults /  / in Luxembourgish / Concept\, storytelling: Betsy Dentzer / Music (composition\, play): toneclash (Nadine Kauffmann\, saxophone / Nancy Schlammes\, percussion) / Production: Service à l’Égalité des Chances Bettembourg\,  Service Egalité des Chances entre Hommes et Femmes Dudelange \nStaarker oder schwaacher; där\, déi mat zwee Féiss um Buedem stinn oder awer där\, déi op Wolleken danzen; där Gewëtzter oder där mat engem Briet virum Kapp\, där diskreter oder där mat engem grousse Mondwierk; där\, déi jiddereen em de Fanger wéckelen an nach där\, déi nees opstinn\, wann se mol op d’Nues gefall sinn…  \n
URL:http://www.betsydentzer.lu/event/weibereien-3/
LOCATION:9\, Place du Théâtre\, Luxembourg\, 2613\, Luxembourg
END:VEVENT
END:VCALENDAR