BEGIN:VCALENDAR
VERSION:2.0
PRODID:-//Betsy Dentzer - ECPv4.6.1//NONSGML v1.0//EN
CALSCALE:GREGORIAN
METHOD:PUBLISH
X-WR-CALNAME:Betsy Dentzer
X-ORIGINAL-URL:http://www.betsydentzer.lu
X-WR-CALDESC:Events for Betsy Dentzer
BEGIN:VEVENT
DTSTART;TZID=UTC+0:20171208T200000
DTEND;TZID=UTC+0:20171208T213000
DTSTAMP:20210722T154304
CREATED:20171110T173025Z
LAST-MODIFIED:20180326T145725Z
UID:6859-1512763200-1512768600@www.betsydentzer.lu
SUMMARY:Weibereien
DESCRIPTION:Weibereien/ storytelling and music for adults /  / in Luxembourgish / Concept\, storytelling: Betsy Dentzer / Music (composition\, play): toneclash (Nadine Kauffmann\, saxophone / Nancy Schlammes\, percussion) / Production: Service à l’Égalité des Chances Bettembourg\,  Service Egalité des Chances entre Hommes et Femmes Dudelange / ARCA Bertrange (L) \nStaarker oder schwaacher; där\, déi mat zwee Féiss um Buedem stinn oder awer där\, déi op Wolleken danzen; där Gewëtzter oder där mat engem Briet virum Kapp\, där diskreter oder där mat engem grousse Mondwierk; där\, déi jiddereen em de Fanger wéckelen an nach där\, déi nees opstinn\, wann se mol op d’Nues gefall sinn… Där Frae ginn et vill verschiddener\, an et wär falsch\, fir se all an en Tirang ze raumen. \n
URL:http://www.betsydentzer.lu/event/weibereien/
LOCATION:17\, rue Atert\, Bertrange\, Luxembourg
ORGANIZER;CN="Bartrenger%20Kam%C3%A9idi":MAILTO:info@kameidi.lu
END:VEVENT
END:VCALENDAR