BEGIN:VCALENDAR
VERSION:2.0
PRODID:-//Betsy Dentzer - ECPv4.6.1//NONSGML v1.0//EN
CALSCALE:GREGORIAN
METHOD:PUBLISH
X-WR-CALNAME:Betsy Dentzer
X-ORIGINAL-URL:http://www.betsydentzer.lu
X-WR-CALDESC:Events for Betsy Dentzer
BEGIN:VEVENT
DTSTART;TZID=UTC+0:20191228T150000
DTEND;TZID=UTC+0:20191228T160000
DTSTAMP:20200427T034756
CREATED:20190709T145300Z
LAST-MODIFIED:20190709T145300Z
UID:7352-1577545200-1577548800@www.betsydentzer.lu
SUMMARY:Zwee Ënnerwee
DESCRIPTION:\nZwee Ënnerwee / storytelling and music\, 5+ / Length: +/- 40 minutes / in Luxembourgish / Concept & storytelling: Betsy Dentzer / Music: Nataša Grujovic / Costumes: Natercia Rebelo / Artistic advice: Milla Trausch (theatre) & Jean Bermes (music) / Production & booking: Rotondes Luxembourg \n  \nPUBLIC PERFORMANCE  \nin the course of “Chrëschtdeeg an de Rotondes” \n  \nA mäi Rucksak paken ech:\neng Weltkaart\neng Weltkaart an eng Schwammkap.\neng Weltkaart\, eng Schwammkap an eng Melodie.\neng Weltkaart\, eng Schwammkap\, eng Melodie an eng kleng Dous Luussegkeet.\neng Weltkaart\, eng Schwammkap\, eng Melodie\, eng kleng Dous Luussegkeet an en ängschtlecht Blënzelen.\neng Weltkaart\, eng Schwammkap\, eng Melodie\, eng kleng Dous Luussegkeet\, en ängschtlecht Blënzelen an eng fest Ëmäerbelung.\neng Weltkaart\, eng Schwammkap\, eng Melodie\, eng kleng Dous Luussegkeet\, en ängschtlecht Blënzelen\, eng fest Ëmäerbelung an ee „Weess-de-nach?“. \nNo enger spannender éischter Rees duerch Nordamerika\, d’Tierkei an de Kongo huet d’Betsy sech nees op de Wee gemaach\, fir nei Geschichten uechter d’Welt ze sammelen. D’Nataša huet sech säin Akkordeon op de Réck gelueden an huet sech mat him zesummen op de Wee gemaach. Vill Stonne laang hu si nogelauschtert\, ausgetosch\, musizéiert a gesongen\, si si getrëppelt a geflunn a geschwomm… an elo si si nees doheem an hunn nees e ganze Rucksak voller Geschichten dobäi\, deene si ënnerwee begéint sinn… ënnerwee zu zwee. \n  \n\nA musical storytelling program about travelling\, cultural exchange and new discoveries. \n
URL:http://www.betsydentzer.lu/event/zwee-ennerwee-17/
LOCATION:Place des rotondes\, Luxembourg\, 2448\, Luxembourg
END:VEVENT
END:VCALENDAR