BEGIN:VCALENDAR
VERSION:2.0
PRODID:-//Betsy Dentzer - ECPv4.6.1//NONSGML v1.0//EN
CALSCALE:GREGORIAN
METHOD:PUBLISH
X-WR-CALNAME:Betsy Dentzer
X-ORIGINAL-URL:http://www.betsydentzer.lu
X-WR-CALDESC:Events for Betsy Dentzer
BEGIN:VEVENT
DTSTART;TZID=UTC+0:20211014T170000
DTEND;TZID=UTC+0:20211014T173000
DTSTAMP:20211007T041451
CREATED:20210923T150738Z
LAST-MODIFIED:20210923T150738Z
UID:8223-1634230800-1634232600@www.betsydentzer.lu
SUMMARY:Lecture
DESCRIPTION:Reading of an excerpt from my story collection “Geeschter\, Wiichtelcher a verschwonnen Dierfer”\, a commission by LEADER Lëtzebuerg West (2019) in the framework of the HistoSchool project. \n
URL:http://www.betsydentzer.lu/event/lecture/
LOCATION:rue Collart\, Steinfort\, Luxembourg
END:VEVENT
END:VCALENDAR