BEGIN:VCALENDAR
VERSION:2.0
PRODID:-//Betsy Dentzer - ECPv4.6.1//NONSGML v1.0//EN
CALSCALE:GREGORIAN
METHOD:PUBLISH
X-WR-CALNAME:Betsy Dentzer
X-ORIGINAL-URL:https://www.betsydentzer.lu
X-WR-CALDESC:Events for Betsy Dentzer
BEGIN:VEVENT
DTSTART;VALUE=DATE:20210521
DTEND;VALUE=DATE:20210522
DTSTAMP:20210723T085717
CREATED:20210107T105727Z
LAST-MODIFIED:20210505T134924Z
UID:8083-1621555200-1621641599@www.betsydentzer.lu
SUMMARY:ANNULE "De Ratefänger vun Hameln"
DESCRIPTION:“De Ratefänger vun Hameln” / music and storytelling / Concept\, text\, direction: Dan Tanson / storytelling\, acting: Betsy Dentzer / Percussion: Louisa Marxen /flute: Juan Carlos Díaz Bueno / Costumes: Alexandra Lichtenberger / Illustrations: Vincent Biwer / Production: Philharmonie Luxembourg\, Traffik Theater Luxembourg / SCHOOL PERFORMANCE \n  \nMORE INFORMATION SOON \n
URL:https://www.betsydentzer.lu/event/de-ratefanger-vun-hameln-4/
LOCATION:8 Gruberbierg\, Wiltz\, 9538\, Luxembourg
END:VEVENT
END:VCALENDAR