BEGIN:VCALENDAR
VERSION:2.0
PRODID:-//Betsy Dentzer - ECPv4.6.1//NONSGML v1.0//EN
CALSCALE:GREGORIAN
METHOD:PUBLISH
X-WR-CALNAME:Betsy Dentzer
X-ORIGINAL-URL:https://www.betsydentzer.lu
X-WR-CALDESC:Events for Betsy Dentzer
BEGIN:VEVENT
DTSTART;TZID=UTC+0:20210502T103000
DTEND;TZID=UTC+0:20210502T113000
DTSTAMP:20210723T085511
CREATED:20200709T170208Z
LAST-MODIFIED:20210311T125549Z
UID:7889-1619951400-1619955000@www.betsydentzer.lu
SUMMARY:ANNULE «D’Loopino danzt am Schäi vum Mound»
DESCRIPTION:«D’Loopino danzt am Schäi vum Mound»/ musical play for families 3+ / in Luxembourgish / Director: Tobias Ribitzki / Text: Susanne Felicitas Wolf / Loopino: Betsy Dentzer / music: duo tuba & harp / Costumes and stage: Florian Angerer / Music workshop: Véronique Cloos / Creative workshop: Sara Mossong / Production: Philharmonie Luxembourg \n
URL:https://www.betsydentzer.lu/event/dloopino-danzt-am-schai-vum-mound/
LOCATION:1\, place de l’Europe\, Luxembourg\, 1499\, Luxembourg
END:VEVENT
END:VCALENDAR