BEGIN:VCALENDAR
VERSION:2.0
PRODID:-//Betsy Dentzer - ECPv4.6.1//NONSGML v1.0//EN
CALSCALE:GREGORIAN
METHOD:PUBLISH
X-WR-CALNAME:Betsy Dentzer
X-ORIGINAL-URL:https://www.betsydentzer.lu
X-WR-CALDESC:Events for Betsy Dentzer
BEGIN:VEVENT
DTSTART;TZID=UTC+0:20201024T190000
DTEND;TZID=UTC+0:20201024T220000
DTSTAMP:20210422T204729
CREATED:20200512T074610Z
LAST-MODIFIED:20200512T074610Z
UID:7657-1603566000-1603576800@www.betsydentzer.lu
SUMMARY:"Geschichtenreise" - storytelling evening for adults
DESCRIPTION:“Geschichtenreise” – storytelling evening for adults / Org.: Zaubernoss a.s.b.l.\, Muriel Nossem \nRegistration required \n  \nmor information on program soon \n
URL:https://www.betsydentzer.lu/event/geschichtenreise-storytelling-evening-for-adults/
LOCATION:5\, Bréicherwee\, Remerschen\, 5441\, Luxembourg
ORGANIZER;CN="Zaubernoss%20a.s.b.l.":MAILTO:zaubernoss@gmail.com
END:VEVENT
END:VCALENDAR