BEGIN:VCALENDAR
VERSION:2.0
PRODID:-//Betsy Dentzer - ECPv4.6.1//NONSGML v1.0//EN
CALSCALE:GREGORIAN
METHOD:PUBLISH
X-WR-CALNAME:Betsy Dentzer
X-ORIGINAL-URL:https://www.betsydentzer.lu
X-WR-CALDESC:Events for Betsy Dentzer
BEGIN:VEVENT
DTSTART;TZID=UTC+0:20210501T103000
DTEND;TZID=UTC+0:20210501T113000
DTSTAMP:20210723T085357
CREATED:20200709T165622Z
LAST-MODIFIED:20210311T125542Z
UID:7882-1619865000-1619868600@www.betsydentzer.lu
SUMMARY:ANNULE «Loopino danse à la lueur de la lune»
DESCRIPTION:«Loopino danse à la lueur de la lune”/ musical play for families 3+ / in French / Director: Tobias Ribitzki / Text: Susanne Felicitas Wolf / Loopino: Betsy Dentzer / music: duo tuba & harp / Costumes and stage: Florian Angerer / Music workshop: Véronique Cloos / Creative workshop: Sara Mossong / Production: Philharmonie Luxembourg \n\n\n
URL:https://www.betsydentzer.lu/event/loopino-danse-a-la-lueur-de-la-lune/
LOCATION:1\, place de l’Europe\, Luxembourg\, 1499\, Luxembourg
END:VEVENT
END:VCALENDAR