BEGIN:VCALENDAR
VERSION:2.0
PRODID:-//Betsy Dentzer - ECPv4.6.1//NONSGML v1.0//EN
CALSCALE:GREGORIAN
METHOD:PUBLISH
X-WR-CALNAME:Betsy Dentzer
X-ORIGINAL-URL:https://www.betsydentzer.lu
X-WR-CALDESC:Events for Betsy Dentzer
BEGIN:VEVENT
DTSTART;TZID=UTC+0:20210308T090000
DTEND;TZID=UTC+0:20210308T100000
DTSTAMP:20210422T150233
CREATED:20200622T130521Z
LAST-MODIFIED:20200622T130521Z
UID:7779-1615194000-1615197600@www.betsydentzer.lu
SUMMARY:Musek erzielt: De Ratefänkert vun Hameln
DESCRIPTION:Musek erzielt: “De Ratefänkert vun Hameln” / music and storytelling / Concept\, text\, direction: Dan Tanson / storytelling\, acting: Betsy Dentzer / Percussion: Louisa Marxen /flute: Juan Carlos Díaz Bueno / Costumes: Alexandra Lichtenberger / Illustrations: Vincent Biwer / Production: Philharmonie Luxembourg\, Traffik Theater Luxembourg \nSCHOOL PERFORMANCE \n
URL:https://www.betsydentzer.lu/event/musek-erzielt-de-ratefankert-vun-hameln-2/
LOCATION:42 Route d'Arlon\, Mamer\, 8210\, Luxembourg
END:VEVENT
END:VCALENDAR