BEGIN:VCALENDAR
VERSION:2.0
PRODID:-//Betsy Dentzer - ECPv4.6.1//NONSGML v1.0//EN
CALSCALE:GREGORIAN
METHOD:PUBLISH
X-WR-CALNAME:Betsy Dentzer
X-ORIGINAL-URL:https://www.betsydentzer.lu
X-WR-CALDESC:Events for Betsy Dentzer
BEGIN:VEVENT
DTSTART;TZID=UTC+0:20210207T150000
DTEND;TZID=UTC+0:20210207T160000
DTSTAMP:20210422T202503
CREATED:20200709T120220Z
LAST-MODIFIED:20200709T120220Z
UID:7859-1612710000-1612713600@www.betsydentzer.lu
SUMMARY:Musek erzielt: Dem Gwilan séng Harf
DESCRIPTION:Musek erzielt: Dem Gwilan séng Harf – Eng Geschicht aus de schottegen Highlands / storytelling and music\, 5+ / in Luxembourgish / Director\, concept: Dan Tanson / Storytelling: Betsy Dentzer / Scottish harp: Catriona McKay\, Shetland fiddle: Chris Stout / Text translation: Josette Feinen / Animated llustrations: Clauder Grosch / Costumes and props: Alexandra Lichtenberger / Realisation: Traffik Theater Luxembourg / Production: Philharmonie Luxembourg\, Chantier Mobile a.s.b.l. \n  \n« Spill op denger Harf\, Gwilan!” seet déi iwwerierdeg schéi Fra um wäisse Päerd. \n« Schéi Musek a grénge Schied passe gutt beieneen ».  \nDe Gwilan hëllt säin Instrument an de Grapp a spillt drop.  \nWien ass di geheimnisvoll Fra\, déi dem Gwilan nolauschtere wëll? A wat wëll si vun him?  \n« Dem Gwilan seng Harf » ass eng Geschicht voller Feeënzauber\, déi erzielt\, wéi e jonke Mann sech op de Wee mëcht\, fir d’Geheimnis vun der Musek ze fannen. \n
URL:https://www.betsydentzer.lu/event/musek-erzielt-dem-gwilan-seng-harf-3/
LOCATION:1\, place de l’Europe\, Luxembourg\, 1499\, Luxembourg
END:VEVENT
END:VCALENDAR