BEGIN:VCALENDAR
VERSION:2.0
PRODID:-//Betsy Dentzer - ECPv4.6.1//NONSGML v1.0//EN
CALSCALE:GREGORIAN
METHOD:PUBLISH
X-WR-CALNAME:Betsy Dentzer
X-ORIGINAL-URL:https://www.betsydentzer.lu
X-WR-CALDESC:Events for Betsy Dentzer
BEGIN:VEVENT
DTSTART;VALUE=DATE:20201030
DTEND;VALUE=DATE:20201031
DTSTAMP:20210422T204548
CREATED:20201022T100516Z
LAST-MODIFIED:20201022T100516Z
UID:7950-1604016000-1604102399@www.betsydentzer.lu
SUMMARY:Storytelling for scholars
DESCRIPTION:Storytelling for scholars / Org. Liesfërderung an den Diddelenger Schoulen & Bibliothèque Publique Régionale de Dudelange \n
URL:https://www.betsydentzer.lu/event/storytelling-for-scholars-55/
LOCATION:24\, rue du Commerce\, Dudelange\, 3450
END:VEVENT
END:VCALENDAR