BEGIN:VCALENDAR
VERSION:2.0
PRODID:-//Betsy Dentzer - ECPv4.6.1//NONSGML v1.0//EN
CALSCALE:GREGORIAN
METHOD:PUBLISH
X-WR-CALNAME:Betsy Dentzer
X-ORIGINAL-URL:https://www.betsydentzer.lu
X-WR-CALDESC:Events for Betsy Dentzer
BEGIN:VEVENT
DTSTART;TZID=UTC+0:20210127T080000
DTEND;TZID=UTC+0:20210127T120000
DTSTAMP:20210422T204156
CREATED:20210106T161218Z
LAST-MODIFIED:20210106T161218Z
UID:8030-1611734400-1611748800@www.betsydentzer.lu
SUMMARY:Storytelling for scholars
DESCRIPTION:Storytelling for scholars / Org. Liesfërderung an den Diddelenger Schoulen & Bibliothèque Publique Régionale de Dudelange \n
URL:https://www.betsydentzer.lu/event/storytelling-for-scholars-61/
LOCATION:24\, rue du Commerce\, Dudelange\, 3450
END:VEVENT
END:VCALENDAR