BEGIN:VCALENDAR
VERSION:2.0
PRODID:-//Betsy Dentzer - ECPv4.6.1//NONSGML v1.0//EN
CALSCALE:GREGORIAN
METHOD:PUBLISH
X-WR-CALNAME:Betsy Dentzer
X-ORIGINAL-URL:https://www.betsydentzer.lu
X-WR-CALDESC:Events for Betsy Dentzer
BEGIN:VEVENT
DTSTART;TZID=UTC+0:20210303T080000
DTEND;TZID=UTC+0:20210303T120000
DTSTAMP:20210422T150150
CREATED:20210106T162655Z
LAST-MODIFIED:20210311T125312Z
UID:8048-1614758400-1614772800@www.betsydentzer.lu
SUMMARY:ANNULE Storytelling for scholars
DESCRIPTION:Storytelling for scholars / Org.: Ecole fondamentale de Walferdange / 3 sessions \n
URL:https://www.betsydentzer.lu/event/storytelling-for-scholars-64/
LOCATION:Walferdange\, Luxembourg
END:VEVENT
END:VCALENDAR